BEGIN:VCALENDAR
VERSION:2.0
PRODID:-//ChamberMaster//Event Calendar 2.0//EN
METHOD:PUBLISH
X-PUBLISHED-TTL:P3D
REFRESH-INTERVAL:P3D
CALSCALE:GREGORIAN
BEGIN:VEVENT
DTSTART:20240407T233000Z
DTEND:20240408T010000Z
X-MICROSOFT-CDO-ALLDAYEVENT:FALSE
SUMMARY:Unplug in the Celtic Tradition
DESCRIPTION:Celtic Reflective Service\n\nLive Music by Local Artists\n\nHomecooked Meal to Follow
X-ALT-DESC;FMTTYPE=text/html:<strong>Celtic Reflective Service</strong><br />\nLive Music by Local Artists<br />\nHomecooked Meal to Follow
LOCATION:Holy Trinity Episcopal Church 642 Arapahoe
UID:e.2849.34909
SEQUENCE:3
DTSTAMP:20260422T054848Z
URL:https://thermopolischamber.org/events/details/unplug-in-the-celtic-tradition-34909
END:VEVENT

END:VCALENDAR
