BEGIN:VCALENDAR
VERSION:2.0
PRODID:-//ChamberMaster//Event Calendar 2.0//EN
METHOD:PUBLISH
X-PUBLISHED-TTL:P3D
REFRESH-INTERVAL:P3D
CALSCALE:GREGORIAN
BEGIN:VEVENT
DTSTART:20240405T010000Z
DTEND:20240405T020000Z
X-MICROSOFT-CDO-ALLDAYEVENT:FALSE
SUMMARY:Wine Women and Dementia@ HS Senior Center
DESCRIPTION:Micky's Movie Theater
X-ALT-DESC;FMTTYPE=text/html:Micky&#39\;s Movie Theater&nbsp\;
LOCATION:Mickie Movie Theater 3rd Arapahoe
UID:e.2849.34902
SEQUENCE:3
DTSTAMP:20260422T055256Z
URL:https://thermopolischamber.org/events/details/wine-women-and-dementia-hs-senior-center-34902
END:VEVENT

END:VCALENDAR
