BEGIN:VCALENDAR
VERSION:2.0
PRODID:-//ChamberMaster//Event Calendar 2.0//EN
METHOD:PUBLISH
X-PUBLISHED-TTL:P3D
REFRESH-INTERVAL:P3D
CALSCALE:GREGORIAN
BEGIN:VEVENT
DTSTART:20240420T190000Z
DTEND:20240420T220000Z
X-MICROSOFT-CDO-ALLDAYEVENT:FALSE
SUMMARY:Wrangler Team Roping
DESCRIPTION:Wrangler Team Roping \n\nSpectators Welcome
X-ALT-DESC;FMTTYPE=text/html:<strong>Wrangler Team Roping&nbsp\;</strong><br />\nSpectators Welcome&nbsp\;
LOCATION:HSC Fairgrounds
UID:e.2849.34948
SEQUENCE:3
DTSTAMP:20260422T054915Z
URL:https://thermopolischamber.org/events/details/wrangler-team-roping-04-20-2024-34948
END:VEVENT

END:VCALENDAR
