BEGIN:VCALENDAR
VERSION:2.0
PRODID:-//ChamberMaster//Event Calendar 2.0//EN
METHOD:PUBLISH
X-PUBLISHED-TTL:P3D
REFRESH-INTERVAL:P3D
CALSCALE:GREGORIAN
BEGIN:VEVENT
DTSTART:20240420T150000Z
DTEND:20240420T170000Z
X-MICROSOFT-CDO-ALLDAYEVENT:FALSE
SUMMARY:Wyoming Dinosaur Center Science Saturday
DESCRIPTION:Creating Dino Suncatchers
X-ALT-DESC;FMTTYPE=text/html:<span style="font-size:16px\;">Creating Dino Suncatchers</span>
LOCATION:Wyoming Dinosaur Center 110 Carter Ranch Road
UID:e.2849.34716
SEQUENCE:3
DTSTAMP:20260422T055001Z
URL:https://thermopolischamber.org/events/details/wyoming-dinosaur-center-science-saturday-34716
END:VEVENT

END:VCALENDAR
