BEGIN:VCALENDAR
VERSION:2.0
PRODID:-//ChamberMaster//Event Calendar 2.0//EN
METHOD:PUBLISH
X-PUBLISHED-TTL:P3D
REFRESH-INTERVAL:P3D
CALSCALE:GREGORIAN
BEGIN:VEVENT
DTSTART:20240420T153000Z
DTEND:20240420T210000Z
X-MICROSOFT-CDO-ALLDAYEVENT:FALSE
SUMMARY:Youth Hunter Education Challenge
DESCRIPTION:8th Annual Youth Hunter Education Challenge\n\nFor Hunter Education Graduates \n\nHosted by Thermopolis Gun Club
X-ALT-DESC;FMTTYPE=text/html:<span style="font-size:16px\;"><strong>8th Annual Youth Hunter Education Challenge</strong></span><br />\nFor Hunter Education Graduates&nbsp\;<br />\nHosted by Thermopolis Gun Club
LOCATION:Bob Milek Memorial Range 8 miles west of Thermopolis on Hwy 120
UID:e.2849.34945
SEQUENCE:3
DTSTAMP:20260422T054502Z
URL:https://thermopolischamber.org/events/details/youth-hunter-education-challenge-34945
END:VEVENT

END:VCALENDAR
