BEGIN:VCALENDAR
VERSION:2.0
PRODID:-//ChamberMaster//Event Calendar 2.0//EN
METHOD:PUBLISH
X-PUBLISHED-TTL:P3D
REFRESH-INTERVAL:P3D
CALSCALE:GREGORIAN
BEGIN:VEVENT
DTSTART:20210325T010000Z
DTEND:20210325T010000Z
X-MICROSOFT-CDO-ALLDAYEVENT:FALSE
SUMMARY:Youth Soccer Parent Meeting
DESCRIPTION:Youth Soccer parent meeting\n\n\n\nFirst Practices: March 29th\n\n\n\nTimes of practices: Evenings on Mondays\, Tuesdays\, and Thursdays
X-ALT-DESC;FMTTYPE=text/html:Youth Soccer parent meeting<br />\n<br />\nFirst Practices: March 29th<br />\n<br />\nTimes of practices: Evenings on Mondays\, Tuesdays\, and Thursdays<br />\n&nbsp\;
LOCATION:Armory
UID:e.2849.27744
SEQUENCE:3
DTSTAMP:20260424T140859Z
URL:https://thermopolischamber.org/events/details/youth-soccer-parent-meeting-27744
END:VEVENT

END:VCALENDAR
